BEGIN:VCALENDAR
VERSION:2.0
PRODID:-//wp-events-plugin.com//7.2.3.1//EN
TZID:Europe/London
X-WR-TIMEZONE:Europe/London
BEGIN:VEVENT
UID:12@12amodels.co.uk
DTSTART;TZID=Europe/London:20260718T100000
DTEND;TZID=Europe/London:20260719T160000
DTSTAMP:20251010T093318Z
URL:https://12amodels.co.uk/events/chatham-district-model-railway-club-202
 6-show/
SUMMARY:Chatham & District Model Railway Club - 2026 Show
DESCRIPTION:Confirmed!\n\nWe are very excited to announce that we will be a
 t the 2026 Chatham Show!
ATTACH;FMTTYPE=image/jpeg:https://12amodels.co.uk/wp-content/uploads/2025/
 08/Chatham20206-1.jpg
LOCATION:Historic Dockyard Chatham\, The Historic Dockyard\, Chatham\, Kent
 \, ME4 4TY\, United Kingdom
X-APPLE-STRUCTURED-LOCATION;VALUE=URI;X-ADDRESS=The Historic Dockyard\, Cha
 tham\, Kent\, ME4 4TY\, United Kingdom;X-APPLE-RADIUS=100;X-TITLE=Historic
  Dockyard Chatham:geo:0,0
END:VEVENT
BEGIN:VTIMEZONE
TZID:Europe/London
X-LIC-LOCATION:Europe/London
BEGIN:DAYLIGHT
DTSTART:20260329T020000
TZOFFSETFROM:+0000
TZOFFSETTO:+0100
TZNAME:BST
END:DAYLIGHT
END:VTIMEZONE
END:VCALENDAR