BEGIN:VCALENDAR
VERSION:2.0
PRODID:-//wp-events-plugin.com//7.2.3.1//EN
TZID:Europe/London
X-WR-TIMEZONE:Europe/London
BEGIN:VEVENT
UID:21@12amodels.co.uk
DTSTART;TZID=Europe/London:20270227T100000
DTEND;TZID=Europe/London:20270228T160000
DTSTAMP:20260423T161205Z
URL:https://12amodels.co.uk/events/lincoln-and-district-model-railway-exhi
 bition-2027/
SUMMARY:Lincoln and District Model Railway Exhibition 2027
DESCRIPTION:We are pleased to announce that we will be exhibiting at the 20
 27 Lincoln & District Model Railway Exhibition on 27th and 28th of Februar
 y.
ATTACH;FMTTYPE=image/jpeg:https://12amodels.co.uk/wp-content/uploads/2026/
 04/Lincoln27.jpg
LOCATION:The County Assembly Rooms\, 76 Bailgate\, Lincoln LN1 3AR\, The Co
 unty Assembly Rooms\, 76 Bailgate\, Lincoln \, Lincolnshire\, LN1 3AR\, Un
 ited Kingdom
X-APPLE-STRUCTURED-LOCATION;VALUE=URI;X-ADDRESS=The County Assembly Rooms\,
  76 Bailgate\, Lincoln \, Lincolnshire\, LN1 3AR\, United Kingdom;X-APPLE-
 RADIUS=100;X-TITLE=The County Assembly Rooms\, 76 Bailgate\, Lincoln LN1 3
 AR:geo:0,0
END:VEVENT
BEGIN:VTIMEZONE
TZID:Europe/London
X-LIC-LOCATION:Europe/London
BEGIN:STANDARD
DTSTART:20261025T010000
TZOFFSETFROM:+0100
TZOFFSETTO:+0000
TZNAME:GMT
END:STANDARD
END:VTIMEZONE
END:VCALENDAR