BEGIN:VCALENDAR
VERSION:2.0
PRODID:-//wp-events-plugin.com//7.2.3.1//EN
TZID:Europe/London
X-WR-TIMEZONE:Europe/London
BEGIN:VEVENT
UID:3@12amodels.co.uk
DTSTART;TZID=Europe/London:20251108T100000
DTEND;TZID=Europe/London:20251109T160000
DTSTAMP:20251010T093525Z
URL:https://12amodels.co.uk/events/nottingham-model-railway-society-autumn
 -show-2025/
SUMMARY:Nottingham Model Railway Society - Autumn Show 2025
DESCRIPTION:We are exhibiting In 2025 at the Nottingham Autumn Model Railwa
 y Show at the Richard Herrod Centre\, Foxhill Road\, Carlton\, Nottingham 
 NG4 1RL\, subject to confirmation.\n\nBy train – Nearest station is Car
 lton (1.07 miles)\, served by East Midlands Railway.\nOther close statio
 ns: Netherfield [1.19 miles] Nottingham [2.44 miles] Burton Joyce [2
 .69 miles]\n\nBy bus – Nottingham City Transport 39 from Queen Street N
 ottingham goes to Foxhill Road Central\, from which the Richard Herrod Cen
 tre is a two-minute walk.\nAlternatively\, NCT 27 from Queen Street Nott
 ingham goes to Belper Avenue\, from which the Richard Herrod Centre is a s
 ix-minute walk\; this is a quicker journey\, but involves more walking. (E
 ven quicker is to take NCT 25\, 26 or 27 to Hooton Road\, for a ten-m
 inute walk.)\n\n&nbsp\;\n\nhttps://www.nottingham-modelrailway.org.uk/?pag
 e_id=491
ATTACH;FMTTYPE=image/jpeg:https://12amodels.co.uk/wp-content/uploads/2025/
 02/Autumn-2025-Flyer.webp
LOCATION:Richard Herrod Centre\, Foxhill Road\, Carlton\, Nottingham NG4 1R
 L\, Richard Herrod Centre\, Foxhill Road\, Carlton\, Nottingham\, Nottingh
 amshire\, NG4 1RL\, Carlton\, United Kingdom
X-APPLE-STRUCTURED-LOCATION;VALUE=URI;X-ADDRESS=Richard Herrod Centre\, Fox
 hill Road\, Carlton\, Nottingham\, Nottinghamshire\, NG4 1RL\, Carlton\, U
 nited Kingdom;X-APPLE-RADIUS=100;X-TITLE=Richard Herrod Centre\, Foxhill R
 oad\, Carlton\, Nottingham NG4 1RL:geo:0,0
END:VEVENT
BEGIN:VTIMEZONE
TZID:Europe/London
X-LIC-LOCATION:Europe/London
BEGIN:STANDARD
DTSTART:20251026T010000
TZOFFSETFROM:+0100
TZOFFSETTO:+0000
TZNAME:GMT
END:STANDARD
END:VTIMEZONE
END:VCALENDAR