BEGIN:VCALENDAR
VERSION:2.0
PRODID:-//wp-events-plugin.com//7.2.3.1//EN
TZID:Europe/London
X-WR-TIMEZONE:Europe/London
BEGIN:VEVENT
UID:7@12amodels.co.uk
DTSTART;TZID=Europe/London:20250705T093000
DTEND;TZID=Europe/London:20250706T170000
DTSTAMP:20250629T105937Z
URL:https://12amodels.co.uk/events/railex-buxton-2025-show-subject-to-conf
 irmation/
SUMMARY:Railex Buxton 2025 Show - Subject to confirmation
DESCRIPTION:Subject to confirmation\, we will be exhibiting at the 2025 Rai
 lex Buxton show.
ATTACH;FMTTYPE=image/jpeg:https://12amodels.co.uk/wp-content/uploads/2025/
 04/FB_IMG_1720870947012-723x1024-1.jpg
LOCATION:Buxton Pavilion Gardens\, St John’s Road\, Buxton\, Derbyshire\,
  SK17 6BE\, Buxton Pavilion Gardens\, St John’s Road\, Buxton\, Derbyshi
 re\, SK17 6BE\, United Kingdom
X-APPLE-STRUCTURED-LOCATION;VALUE=URI;X-ADDRESS=Buxton Pavilion Gardens\, S
 t John’s Road\, Buxton\, Derbyshire\, SK17 6BE\, United Kingdom;X-APPLE-
 RADIUS=100;X-TITLE=Buxton Pavilion Gardens\, St John’s Road\, Buxton\, D
 erbyshire\, SK17 6BE:geo:0,0
END:VEVENT
BEGIN:VTIMEZONE
TZID:Europe/London
X-LIC-LOCATION:Europe/London
BEGIN:DAYLIGHT
DTSTART:20250330T020000
TZOFFSETFROM:+0000
TZOFFSETTO:+0100
TZNAME:BST
END:DAYLIGHT
END:VTIMEZONE
END:VCALENDAR